BEGIN:VCALENDAR
VERSION:2.0
PRODID:-//Arbor Circle - ECPv6.15.20//NONSGML v1.0//EN
CALSCALE:GREGORIAN
METHOD:PUBLISH
X-WR-CALNAME:Arbor Circle
X-ORIGINAL-URL:https://arborcircle.org
X-WR-CALDESC:Events for Arbor Circle
REFRESH-INTERVAL;VALUE=DURATION:PT1H
X-Robots-Tag:noindex
X-PUBLISHED-TTL:PT1H
BEGIN:VTIMEZONE
TZID:America/Detroit
BEGIN:DAYLIGHT
TZOFFSETFROM:-0500
TZOFFSETTO:-0400
TZNAME:EDT
DTSTART:20250309T070000
END:DAYLIGHT
BEGIN:STANDARD
TZOFFSETFROM:-0400
TZOFFSETTO:-0500
TZNAME:EST
DTSTART:20251102T060000
END:STANDARD
BEGIN:DAYLIGHT
TZOFFSETFROM:-0500
TZOFFSETTO:-0400
TZNAME:EDT
DTSTART:20260308T070000
END:DAYLIGHT
BEGIN:STANDARD
TZOFFSETFROM:-0400
TZOFFSETTO:-0500
TZNAME:EST
DTSTART:20261101T060000
END:STANDARD
BEGIN:DAYLIGHT
TZOFFSETFROM:-0500
TZOFFSETTO:-0400
TZNAME:EDT
DTSTART:20270314T070000
END:DAYLIGHT
BEGIN:STANDARD
TZOFFSETFROM:-0400
TZOFFSETTO:-0500
TZNAME:EST
DTSTART:20271107T060000
END:STANDARD
END:VTIMEZONE
BEGIN:VEVENT
DTSTART;TZID=America/Detroit:20260724T090000
DTEND;TZID=America/Detroit:20260724T153000
DTSTAMP:20260425T074139
CREATED:20251117T193903Z
LAST-MODIFIED:20260316T180658Z
UID:4229-1784883600-1784907000@arborcircle.org
SUMMARY:adult mental health first aid
DESCRIPTION:Mental Health First Aid teaches you how to identify\, understand\, and respond to signs of mental health and substance use challenges. \n\n\n\nThis course covers: \n\n\n\n\nCommon signs and symptoms of mental health and substance use challenges\n\n\n\nHow to interact with a person in crisis and connect them to help\n\n\n\nExpanded content on trauma\, substance use\, and self-care\n\n\n\n\nTotal training time is 8 hours\, with 6 hours of live (virtual or in-person) instructor training\, and 2 hours of online pre-work. This training is presented in partnership with Corewell Health. \n\n\n\nQuestions? Contact Alyx: astuehler@arborcircle.org \n\n\n\nRegister now\n\n\n\n\n\nevent details\n\n\n\n\nJuly 24\, 2026\n\n\n\n9:00am – 3:30pm\n\n\n\nFree
URL:https://arborcircle.org/event/adult-mental-health-first-aid-2/
LOCATION:Michigan
CATEGORIES:Education
END:VEVENT
END:VCALENDAR