BEGIN:VCALENDAR
VERSION:2.0
PRODID:-//Arbor Circle - ECPv6.15.20//NONSGML v1.0//EN
CALSCALE:GREGORIAN
METHOD:PUBLISH
X-WR-CALNAME:Arbor Circle
X-ORIGINAL-URL:https://arborcircle.org
X-WR-CALDESC:Events for Arbor Circle
REFRESH-INTERVAL;VALUE=DURATION:PT1H
X-Robots-Tag:noindex
X-PUBLISHED-TTL:PT1H
BEGIN:VTIMEZONE
TZID:America/Detroit
BEGIN:DAYLIGHT
TZOFFSETFROM:-0500
TZOFFSETTO:-0400
TZNAME:EDT
DTSTART:20250309T070000
END:DAYLIGHT
BEGIN:STANDARD
TZOFFSETFROM:-0400
TZOFFSETTO:-0500
TZNAME:EST
DTSTART:20251102T060000
END:STANDARD
BEGIN:DAYLIGHT
TZOFFSETFROM:-0500
TZOFFSETTO:-0400
TZNAME:EDT
DTSTART:20260308T070000
END:DAYLIGHT
BEGIN:STANDARD
TZOFFSETFROM:-0400
TZOFFSETTO:-0500
TZNAME:EST
DTSTART:20261101T060000
END:STANDARD
BEGIN:DAYLIGHT
TZOFFSETFROM:-0500
TZOFFSETTO:-0400
TZNAME:EDT
DTSTART:20270314T070000
END:DAYLIGHT
BEGIN:STANDARD
TZOFFSETFROM:-0400
TZOFFSETTO:-0500
TZNAME:EST
DTSTART:20271107T060000
END:STANDARD
END:VTIMEZONE
BEGIN:VEVENT
DTSTART;TZID=America/Detroit:20260505T180000
DTEND;TZID=America/Detroit:20260505T200000
DTSTAMP:20260423T113445
CREATED:20260312T151225Z
LAST-MODIFIED:20260316T181037Z
UID:4327-1778004000-1778011200@arborcircle.org
SUMMARY:affirming futures: creating safe and affirming spaces
DESCRIPTION:This 2-part workshop series hosted by Arbor Circle is designed to equip educators\, caregivers\, and community members with the tools and understanding needed to support LGBTQ+ youth. Through interactive\, informative sessions\, we aim to foster safer\, more inclusive environments where young people can feel seen\, affirmed\, and empowered to thrive. Our goal is to build lasting connections and spark change across schools\, homes\, and communities. \n\n\n\ncreating safe and affirming spaces\n\n\n\n\nLearn how to be an affirming adult in homes\, schools\, and community spaces.\n\n\n\nRecognize and address bias\, microaggressions\, and discrimination.\n\n\n\nUnderstand how to support youth when they experience harm or exclusion.\n\n\n\n\nRegister Now\n\n\n\n\n\nevent details\n\n\n\n\nMay 5\, 2026\n\n\n\n6:00pm – 8:00pm\n\n\n\nFree\n\n\n\nMain Grand Rapids Public Library
URL:https://arborcircle.org/event/affirming-futures-creating-safe-and-affirming-spaces/
LOCATION:Main Grand Rapids Public Library\, 111 Library St NE\, Grand Rapids\, Michigan\, 49503
CATEGORIES:Education
END:VEVENT
BEGIN:VEVENT
DTSTART;TZID=America/Detroit:20260505T110000
DTEND;TZID=America/Detroit:20260505T123000
DTSTAMP:20260423T113445
CREATED:20250903T150317Z
LAST-MODIFIED:20260316T181012Z
UID:4102-1777978800-1777984200@arborcircle.org
SUMMARY:connection café for foster & adoptive caregivers
DESCRIPTION:Are you the caregiver of a foster or adoptive child? Are you looking for a safe space to connect with other caregivers and learn some different parting skills from the Conscious Discipline model? Come join us for community and coffee! \n\n\n\nConscious Discipline is a program that gives caregivers the skills to help teach their kids how to manage their emotions. Each month\, a new skill will be taught that will help caregivers build stronger relationships with their children\, communicate more effectively\, and build problem-solving skills. You are welcome to attend every month or just drop in when you can. \n\n\n\nQuestions? Contact us at kschmidt@arborcircle.org or 616.980.7726. \n\n\n\n\n\nevent details\n\n\n\n\nMay 5\, 2026\n\n\n\n11:00am – 12:30pm\n\n\n\nFree\n\n\n\nRuss’ Restaurant
URL:https://arborcircle.org/event/connection-cafe-for-foster-adoptive-caregivers-8/
LOCATION:Russ’ Restaurant\, 1499 East River Road\, North Muskegon\, Michigan\, 49445
CATEGORIES:Education
END:VEVENT
BEGIN:VEVENT
DTSTART;TZID=America/Detroit:20260430T180000
DTEND;TZID=America/Detroit:20260430T190000
DTSTAMP:20260423T113445
CREATED:20260316T182250Z
LAST-MODIFIED:20260316T182251Z
UID:4381-1777572000-1777575600@arborcircle.org
SUMMARY:qpr suicide prevention training
DESCRIPTION:Join us at Bluestocking Bookshop on Thursday\, April 30 for QPR suicide prevention training. This 60 minute training will be offered from 12:30-1:30pm and again from 6-7pm. \n\n\n\nQPR stands for Question\, Persuade\, Refer – 3 simple steps that anyone can learn to save a life from suicide. Just as people trained in CPR and the Heimlich Maneuver help save thousands of lives each year\, people trained in QPR learn how to recognize the warning signs of a suicide crisis and how to question\, persuade\, and refer someone to help. Each year\, thousands of people like you are saying “yes” to saving the life of a friend\, colleague\, sibling\, or neighbor. \n\n\n\nQuestions? Contact Vicki: vkavanaugh@arborcircle.org \n\n\n\nRegister now\n\n\n\n\n\nevent details\n\n\n\n\nApril 30\, 2026\n\n\n\n6:00pm – 7:00pm\n\n\n\nFree\n\n\n\nBluestocking Bookshop
URL:https://arborcircle.org/event/qpr-suicide-prevention-training-2/
LOCATION:Bluestocking Bookshop\, 12330 James St\, Holland\, Michigan\, 49424
CATEGORIES:Education
END:VEVENT
BEGIN:VEVENT
DTSTART;TZID=America/Detroit:20260430T123000
DTEND;TZID=America/Detroit:20260430T133000
DTSTAMP:20260423T113445
CREATED:20260316T182054Z
LAST-MODIFIED:20260316T182057Z
UID:4379-1777552200-1777555800@arborcircle.org
SUMMARY:qpr suicide prevention training
DESCRIPTION:Join us at Bluestocking Bookshop on Thursday\, April 30 for QPR suicide prevention training. This 60 minute training will be offered from 12:30-1:30pm and again from 6-7pm. \n\n\n\nQPR stands for Question\, Persuade\, Refer – 3 simple steps that anyone can learn to save a life from suicide. Just as people trained in CPR and the Heimlich Maneuver help save thousands of lives each year\, people trained in QPR learn how to recognize the warning signs of a suicide crisis and how to question\, persuade\, and refer someone to help. Each year\, thousands of people like you are saying “yes” to saving the life of a friend\, colleague\, sibling\, or neighbor. \n\n\n\nQuestions? Contact Vicki: vkavanaugh@arborcircle.org \n\n\n\nRegister now\n\n\n\n\n\nevent details\n\n\n\n\nApril 30\, 2026\n\n\n\n12:30pm – 1:30pm\n\n\n\nFree\n\n\n\nBluestocking Bookshop
URL:https://arborcircle.org/event/qpr-suicide-prevention-training/
LOCATION:Bluestocking Bookshop\, 12330 James St\, Holland\, Michigan\, 49424
CATEGORIES:Education
END:VEVENT
BEGIN:VEVENT
DTSTART;TZID=America/Detroit:20260427T183000
DTEND;TZID=America/Detroit:20260427T193000
DTSTAMP:20260423T113445
CREATED:20260316T203220Z
LAST-MODIFIED:20260316T203221Z
UID:4385-1777314600-1777318200@arborcircle.org
SUMMARY:qpr suicide prevention training
DESCRIPTION:Join us at The Historic Park Theatre for a free QPR suicide prevention training. \n\n\n\nQPR stands for Question\, Persuade\, Refer – 3 simple steps that anyone can learn to save a life from suicide. Just as people trained in CPR and the Heimlich Maneuver help save thousands of lives each year\, people trained in QPR learn how to recognize the warning signs of a suicide crisis and how to question\, persuade\, and refer someone to help. Each year\, thousands of people like you are saying “yes” to saving the life of a friend\, colleague\, sibling\, or neighbor. \n\n\n\nQuestions? Contact Vicki: vkavanaugh@arborcircle.org \n\n\n\nRegister now\n\n\n\n\n\nevent details\n\n\n\n\nApril 27\, 2026\n\n\n\n6:30pm – 7:30pm\n\n\n\nFree\n\n\n\nPark Theatre
URL:https://arborcircle.org/event/qpr-suicide-prevention-training-4/
LOCATION:Park Theatre\, 248 S River Ave\, Holland\, Michigan\, 49423
CATEGORIES:Education
END:VEVENT
BEGIN:VEVENT
DTSTART;TZID=America/Detroit:20260424T090000
DTEND;TZID=America/Detroit:20260424T153000
DTSTAMP:20260423T113445
CREATED:20251117T194312Z
LAST-MODIFIED:20260316T180413Z
UID:4232-1777021200-1777044600@arborcircle.org
SUMMARY:youth mental health first aid
DESCRIPTION:Mental Health First Aid teaches you how to identify\, understand\, and respond to signs of mental health and substance use challenges. Youth Mental Health First Aid teaches adult learners how to assist adolescents between the ages of 12-18. \n\n\n\nThis course covers: \n\n\n\n\nCommon signs and symptoms of mental health and substance use challenges\n\n\n\nHow to interact with a person in crisis and connect them to help\n\n\n\nExpanded content on trauma\, substance use\, and self-care\n\n\n\n\nTotal training time is 8 hours\, with 6 hours of live (virtual or in-person) instructor training\, and 2 hours of online pre-work. This training is presented in partnership with Corewell Health. \n\n\n\nQuestions? Contact Alyx: astuehler@arborcircle.org \n\n\n\nRegister now\n\n\n\n\n\nevent details\n\n\n\n\nApril 24\, 2026\n\n\n\n9:00am – 3:30pm\n\n\n\nFree
URL:https://arborcircle.org/event/youth-mental-health-first-aid/
LOCATION:Michigan
CATEGORIES:Education
END:VEVENT
END:VCALENDAR