BEGIN:VCALENDAR
VERSION:2.0
PRODID:-//Arbor Circle - ECPv6.15.20//NONSGML v1.0//EN
CALSCALE:GREGORIAN
METHOD:PUBLISH
X-WR-CALNAME:Arbor Circle
X-ORIGINAL-URL:https://arborcircle.org
X-WR-CALDESC:Events for Arbor Circle
REFRESH-INTERVAL;VALUE=DURATION:PT1H
X-Robots-Tag:noindex
X-PUBLISHED-TTL:PT1H
BEGIN:VTIMEZONE
TZID:America/Detroit
BEGIN:DAYLIGHT
TZOFFSETFROM:-0500
TZOFFSETTO:-0400
TZNAME:EDT
DTSTART:20250309T070000
END:DAYLIGHT
BEGIN:STANDARD
TZOFFSETFROM:-0400
TZOFFSETTO:-0500
TZNAME:EST
DTSTART:20251102T060000
END:STANDARD
BEGIN:DAYLIGHT
TZOFFSETFROM:-0500
TZOFFSETTO:-0400
TZNAME:EDT
DTSTART:20260308T070000
END:DAYLIGHT
BEGIN:STANDARD
TZOFFSETFROM:-0400
TZOFFSETTO:-0500
TZNAME:EST
DTSTART:20261101T060000
END:STANDARD
BEGIN:DAYLIGHT
TZOFFSETFROM:-0500
TZOFFSETTO:-0400
TZNAME:EDT
DTSTART:20270314T070000
END:DAYLIGHT
BEGIN:STANDARD
TZOFFSETFROM:-0400
TZOFFSETTO:-0500
TZNAME:EST
DTSTART:20271107T060000
END:STANDARD
END:VTIMEZONE
BEGIN:VEVENT
DTSTART;TZID=America/Detroit:20260601T183000
DTEND;TZID=America/Detroit:20260601T193000
DTSTAMP:20260421T042324
CREATED:20260316T203344Z
LAST-MODIFIED:20260316T203345Z
UID:4386-1780338600-1780342200@arborcircle.org
SUMMARY:qpr suicide prevention training
DESCRIPTION:Join us at The Historic Park Theatre for a free QPR suicide prevention training. \n\n\n\nQPR stands for Question\, Persuade\, Refer – 3 simple steps that anyone can learn to save a life from suicide. Just as people trained in CPR and the Heimlich Maneuver help save thousands of lives each year\, people trained in QPR learn how to recognize the warning signs of a suicide crisis and how to question\, persuade\, and refer someone to help. Each year\, thousands of people like you are saying “yes” to saving the life of a friend\, colleague\, sibling\, or neighbor. \n\n\n\nQuestions? Contact Vicki: vkavanaugh@arborcircle.org \n\n\n\nRegister now\n\n\n\n\n\nevent details\n\n\n\n\nJune 1\, 2026\n\n\n\n6:30pm – 7:30pm\n\n\n\nFree\n\n\n\nPark Theatre
URL:https://arborcircle.org/event/qpr-suicide-prevention-training-14/
LOCATION:Park Theatre\, 248 S River Ave\, Holland\, Michigan\, 49423
CATEGORIES:Education
END:VEVENT
BEGIN:VEVENT
DTSTART;TZID=America/Detroit:20260602T110000
DTEND;TZID=America/Detroit:20260602T123000
DTSTAMP:20260421T042324
CREATED:20250903T150447Z
LAST-MODIFIED:20260316T181107Z
UID:4103-1780398000-1780403400@arborcircle.org
SUMMARY:connection café for foster & adoptive caregivers
DESCRIPTION:Are you the caregiver of a foster or adoptive child? Are you looking for a safe space to connect with other caregivers and learn some different parting skills from the Conscious Discipline model? Come join us for community and coffee! \n\n\n\nConscious Discipline is a program that gives caregivers the skills to help teach their kids how to manage their emotions. Each month\, a new skill will be taught that will help caregivers build stronger relationships with their children\, communicate more effectively\, and build problem-solving skills. You are welcome to attend every month or just drop in when you can. \n\n\n\nQuestions? Contact us at kschmidt@arborcircle.org or 616.980.7726. \n\n\n\n\n\nevent details\n\n\n\n\nJune 2\, 2026\n\n\n\n11:00am – 12:30pm\n\n\n\nFree\n\n\n\nRuss’ Restaurant
URL:https://arborcircle.org/event/connection-cafe-for-foster-adoptive-caregivers-9/
LOCATION:Russ’ Restaurant\, 1499 East River Road\, North Muskegon\, Michigan\, 49445
CATEGORIES:Education
END:VEVENT
BEGIN:VEVENT
DTSTART;TZID=America/Detroit:20260615T120000
DTEND;TZID=America/Detroit:20260615T130000
DTSTAMP:20260421T042324
CREATED:20251117T185949Z
LAST-MODIFIED:20260316T180733Z
UID:4221-1781524800-1781528400@arborcircle.org
SUMMARY:qpr suicide prevention training
DESCRIPTION:QPR stands for Question\, Persuade\, Refer – 3 simple steps that anyone can learn to save a life from suicide. Just as people trained in CPR and the Heimlich Maneuver help save thousands of lives each year\, people trained in QPR learn how to recognize the warning signs of a suicide crisis and how to question\, persuade\, and refer someone to help. Each year\, thousands of people like you are saying “yes” to saving the life of a friend\, colleague\, sibling\, or neighbor. \n\n\n\nThis training is presented in partnership with Corewell Health. Training is 1 hour long and participants will receive a certificate upon completion of the course if requested. \n\n\n\nQuestions? Contact Alyx: astuehler@arborcircle.org \n\n\n\nRegister now\n\n\n\n\n\nevent details\n\n\n\n\nJune 15\, 2026\n\n\n\n12:00pm – 1:00pm\n\n\n\nFree\n\n\n\nVirtual
URL:https://arborcircle.org/event/qpr-suicide-prevention-training-7/
LOCATION:Michigan
CATEGORIES:Education
END:VEVENT
END:VCALENDAR